BEGIN:VCALENDAR
VERSION:2.0
PRODID:-//Palanca e.V. - ECPv6.15.20//NONSGML v1.0//EN
CALSCALE:GREGORIAN
METHOD:PUBLISH
X-WR-CALNAME:Palanca e.V.
X-ORIGINAL-URL:https://palanca-eberswalde.de
X-WR-CALDESC:Veranstaltungen für Palanca e.V.
REFRESH-INTERVAL;VALUE=DURATION:PT1H
X-Robots-Tag:noindex
X-PUBLISHED-TTL:PT1H
BEGIN:VTIMEZONE
TZID:Europe/Berlin
BEGIN:DAYLIGHT
TZOFFSETFROM:+0100
TZOFFSETTO:+0200
TZNAME:CEST
DTSTART:20210328T010000
END:DAYLIGHT
BEGIN:STANDARD
TZOFFSETFROM:+0200
TZOFFSETTO:+0100
TZNAME:CET
DTSTART:20211031T010000
END:STANDARD
BEGIN:DAYLIGHT
TZOFFSETFROM:+0100
TZOFFSETTO:+0200
TZNAME:CEST
DTSTART:20220327T010000
END:DAYLIGHT
BEGIN:STANDARD
TZOFFSETFROM:+0200
TZOFFSETTO:+0100
TZNAME:CET
DTSTART:20221030T010000
END:STANDARD
BEGIN:DAYLIGHT
TZOFFSETFROM:+0100
TZOFFSETTO:+0200
TZNAME:CEST
DTSTART:20230326T010000
END:DAYLIGHT
BEGIN:STANDARD
TZOFFSETFROM:+0200
TZOFFSETTO:+0100
TZNAME:CET
DTSTART:20231029T010000
END:STANDARD
END:VTIMEZONE
BEGIN:VEVENT
DTSTART;VALUE=DATE:20220321
DTEND;VALUE=DATE:20220322
DTSTAMP:20260425T225834
CREATED:20220320T220000Z
LAST-MODIFIED:20220322T123448Z
UID:1510-1647820800-1647907199@palanca-eberswalde.de
SUMMARY:Internationaler Antirassismustag 21. März 2022
DESCRIPTION:Kooperative Veranstaltung von Stadtgemeinde Eberswalde\, HNEE (Hochschule für nachhaltige Entwicklung Eberswalde) und Palanca e.V. \n \n\n\nINTERNATIONALER ANTIRASSISMUS-TAG mit der Aktion „Schirme zeigen – für Vielfalt und Toleranz“ (Stadt Eberswalde und HNEE\, Hochschule für nachhaltige Entwicklung Eberswalde) – als Symbol des Engagements für Solidarität und Weltoffenheit sowie Chancengleichheit und Toleranz.\nDie Fahrrad-Tour zu Palanca e.V. musste wegen eines Corona-Falls in der Fahrradgruppe leider abgesagt werden.\n\n\nNachmittagsveranstaltung an der HNEE: „Vielfalt und Diversität im Kinderzimmer“ – Katja Schluzy-Neumann\, Referentin der Fachstelle Kinderwelten sowie Multiplikatorin für vorurteilsbewusste Bildung und Erziehung. Gemeinsam wurden verschiedene Kinderbücher für Kinder zwischen 4 und 8 Jahren angesehen\, um darüber mit den Kindern und Erwachsenen ins Gespräch zu kommen.
URL:https://palanca-eberswalde.de/veranstaltung/internationaler-antirassismustag-21-maerz-2022/
END:VEVENT
END:VCALENDAR