BEGIN:VCALENDAR
VERSION:2.0
PRODID:-//Palanca e.V. - ECPv6.15.20//NONSGML v1.0//EN
CALSCALE:GREGORIAN
METHOD:PUBLISH
X-WR-CALNAME:Palanca e.V.
X-ORIGINAL-URL:https://palanca-eberswalde.de
X-WR-CALDESC:Veranstaltungen für Palanca e.V.
REFRESH-INTERVAL;VALUE=DURATION:PT1H
X-Robots-Tag:noindex
X-PUBLISHED-TTL:PT1H
BEGIN:VTIMEZONE
TZID:Europe/Berlin
BEGIN:DAYLIGHT
TZOFFSETFROM:+0100
TZOFFSETTO:+0200
TZNAME:CEST
DTSTART:20250330T010000
END:DAYLIGHT
BEGIN:STANDARD
TZOFFSETFROM:+0200
TZOFFSETTO:+0100
TZNAME:CET
DTSTART:20251026T010000
END:STANDARD
BEGIN:DAYLIGHT
TZOFFSETFROM:+0100
TZOFFSETTO:+0200
TZNAME:CEST
DTSTART:20260329T010000
END:DAYLIGHT
BEGIN:STANDARD
TZOFFSETFROM:+0200
TZOFFSETTO:+0100
TZNAME:CET
DTSTART:20261025T010000
END:STANDARD
BEGIN:DAYLIGHT
TZOFFSETFROM:+0100
TZOFFSETTO:+0200
TZNAME:CEST
DTSTART:20270328T010000
END:DAYLIGHT
BEGIN:STANDARD
TZOFFSETFROM:+0200
TZOFFSETTO:+0100
TZNAME:CET
DTSTART:20271031T010000
END:STANDARD
END:VTIMEZONE
BEGIN:VEVENT
DTSTART;VALUE=DATE:20260606
DTEND;VALUE=DATE:20260607
DTSTAMP:20260420T051853
CREATED:20260213T151349Z
LAST-MODIFIED:20260213T151518Z
UID:3726-1780704000-1780790399@palanca-eberswalde.de
SUMMARY:Tag der Vereine
DESCRIPTION:Ihm Rahmen des Waldstadt-Festivals nehmen wir am Tag der Vereine teil.
URL:https://palanca-eberswalde.de/veranstaltung/tag-der-vereine-3/
LOCATION:Park am Weidendamm\, Park am Weidendamm\, Eberswalde\, 16225
CATEGORIES:Fest
END:VEVENT
BEGIN:VEVENT
DTSTART;TZID=Europe/Berlin:20260627T130000
DTEND;TZID=Europe/Berlin:20260627T180000
DTSTAMP:20260420T051853
CREATED:20260213T151816Z
LAST-MODIFIED:20260416T124106Z
UID:3728-1782565200-1782583200@palanca-eberswalde.de
SUMMARY:Fête de la Viertel | Fête um die Welt
DESCRIPTION:Stadtteilfest in Eberswalde \nLust auf gute Laune\, Musik\, Mitmachaktionen und nette Nachbar:innen? \nDann nichts wie hin zur Fête de la Viertel! Am 27. Juni feiern wir wieder unser buntes Stadtteilfest im Brandenburgischen Viertel – wie immer mit viel Herz\, Programm für alle Altersgruppen und jeder Menge Gelegenheiten zum Entdecken\, Ausprobieren und Zusammenkommen. \nDer Potsdamer Platz verwandelt sich an diesem Tag in eine lebendige Festmeile: Lokale Initiativen\, Vereine und Einrichtungen laden an ihren Ständen zum Kennenlernen und Mitmachen ein – ob kreative Bastelangebote\, Infos aus dem Viertel oder einfach ein netter Plausch bei Kaffee und Kuchen. Fürs leibliche Wohl ist natürlich gesorgt: Es gibt Leckeres aus aller Welt!
URL:https://palanca-eberswalde.de/veranstaltung/fete-de-la-viertel-3/
LOCATION:Bürgerzentrum BBV\, Schorfheidestr. 13\, Eberswalde\, 16225
CATEGORIES:Fest
END:VEVENT
END:VCALENDAR