BEGIN:VCALENDAR
VERSION:2.0
PRODID:-//Palanca e.V. - ECPv6.15.20//NONSGML v1.0//EN
CALSCALE:GREGORIAN
METHOD:PUBLISH
X-ORIGINAL-URL:https://palanca-eberswalde.de
X-WR-CALDESC:Veranstaltungen für Palanca e.V.
REFRESH-INTERVAL;VALUE=DURATION:PT1H
X-Robots-Tag:noindex
X-PUBLISHED-TTL:PT1H
BEGIN:VTIMEZONE
TZID:Europe/Berlin
BEGIN:DAYLIGHT
TZOFFSETFROM:+0100
TZOFFSETTO:+0200
TZNAME:CEST
DTSTART:20240331T010000
END:DAYLIGHT
BEGIN:STANDARD
TZOFFSETFROM:+0200
TZOFFSETTO:+0100
TZNAME:CET
DTSTART:20241027T010000
END:STANDARD
BEGIN:DAYLIGHT
TZOFFSETFROM:+0100
TZOFFSETTO:+0200
TZNAME:CEST
DTSTART:20250330T010000
END:DAYLIGHT
BEGIN:STANDARD
TZOFFSETFROM:+0200
TZOFFSETTO:+0100
TZNAME:CET
DTSTART:20251026T010000
END:STANDARD
BEGIN:DAYLIGHT
TZOFFSETFROM:+0100
TZOFFSETTO:+0200
TZNAME:CEST
DTSTART:20260329T010000
END:DAYLIGHT
BEGIN:STANDARD
TZOFFSETFROM:+0200
TZOFFSETTO:+0100
TZNAME:CET
DTSTART:20261025T010000
END:STANDARD
BEGIN:DAYLIGHT
TZOFFSETFROM:+0100
TZOFFSETTO:+0200
TZNAME:CEST
DTSTART:20270328T010000
END:DAYLIGHT
BEGIN:STANDARD
TZOFFSETFROM:+0200
TZOFFSETTO:+0100
TZNAME:CET
DTSTART:20271031T010000
END:STANDARD
END:VTIMEZONE
BEGIN:VEVENT
DTSTART;TZID=Europe/Berlin:20260407T180000
DTEND;TZID=Europe/Berlin:20260407T210000
DTSTAMP:20260420T003750
CREATED:20260305T131755Z
LAST-MODIFIED:20260305T131848Z
UID:3867-1775584800-1775595600@palanca-eberswalde.de
SUMMARY:Wir kochen marrokkanisch
DESCRIPTION:Gemeinsam kochen wir leckeres aus aller Welt und lernen einander kennen. Nette Gespräch und Austausch garantiert.\nDas Kochen ist kostenlos und wir freuen uns über jede Person die mit macht! \nSpendenempfehlung: 2€ | Soli: 5€ \nDamit wir genügend Zutaten einkaufen meldet euch bitte an.\nWir freuen uns auf euch 🙂
URL:https://palanca-eberswalde.de/veranstaltung/wir-kochen-marrokkanisch/
LOCATION:Kaffeehaus Gustav\, Am Markrt 2D\, Eberswalde\, 16225
CATEGORIES:Taste of Barnim
ORGANIZER;CN="Afrikanischer Kulturverein Palanca e.V.":MAILTO:palancaev@gmx.de
END:VEVENT
BEGIN:VEVENT
DTSTART;TZID=Europe/Berlin:20260327T160000
DTEND;TZID=Europe/Berlin:20260327T190000
DTSTAMP:20260420T003750
CREATED:20260317T103300Z
LAST-MODIFIED:20260317T103300Z
UID:3883-1774627200-1774638000@palanca-eberswalde.de
SUMMARY:Das Deutsche Volk
DESCRIPTION:Im Rahmen der Internationalen Wochen gegen Rassismus möchten wir euch herzlich zur Vorführung des Films „Das Deutsche Volk“ einladen.\nDer Einlass beginnt um 16:00 Uhr. \nIn der Nacht des 19. Februar 2020 erschießt ein Rassist neun junge Menschen in Hanau: Gökhan Gültekin\, Sedat Gürbüz\, Said Nesar Hashemi\, Mercedes Kierpacz\, Hamza Kurtović\, Vili Viorel Păun\, Fatih Saraçoğlu\, Ferhat Unvar und Kaloyan Velkov. Zurück bleiben trauernde Familien und Überlebende\, die nicht nur für die Ermordeten\, sondern auch um Wahrheit und Gerechtigkeit kämpfen. Vier Jahre lang begleitet Regisseur Marcin Wierzchowski ihren unermüdlichen Widerstand gegen das Vergessen – und stellt die aktuell wieder drängende Frage: Wer gehört zu Deutschland und wer nicht? \nMarcin Wierzchowski\, 1984 in Warschau geboren\, ist Regisseur und Produzent. Er ist Grimme Preisträger 2022 für 𝘏𝘢𝘯𝘢𝘶 – 𝘌𝘪𝘯𝘦 𝘕𝘢𝘤𝘩𝘵 𝘶𝘯𝘥 𝘪𝘩𝘳𝘦 𝘍𝘰𝘭𝘨𝘦𝘯. Er lernte die Protagonist:innen des Films durch die Initiative 19. Februar kennen und fing schnell nach seiner Gründung mit den Dreharbeiten an.
URL:https://palanca-eberswalde.de/veranstaltung/das-deutsche-volk/
LOCATION:BBZ Amadeu Antonio\, Puschkinstr. 13\, Eberswalde\, Brandenburg\, 16225\, Germany
CATEGORIES:Internationale Wochen gegen Rassismus
END:VEVENT
BEGIN:VEVENT
DTSTART;TZID=Europe/Berlin:20260324T170000
DTEND;TZID=Europe/Berlin:20260324T200000
DTSTAMP:20260420T003750
CREATED:20260305T133338Z
LAST-MODIFIED:20260305T133911Z
UID:3876-1774371600-1774382400@palanca-eberswalde.de
SUMMARY:Eid Mubarak | Zuckerfest
DESCRIPTION:Wir laden alle Menschen anlässlich der internationalen Wochen gegen Rassismus herzlich zum gemeinsamen Zuckerfest ein. \nSpendenempfehlung: 2€ | Soli: 5€ \nDamit wir genügend Essen für euch haben meldet euch bitte an.\nWir freuen uns auf euch 🙂
URL:https://palanca-eberswalde.de/veranstaltung/eid-mubarak/
LOCATION:BBZ Amadeu Antonio\, Puschkinstr. 13\, Eberswalde\, Brandenburg\, 16225\, Germany
CATEGORIES:Internationale Wochen gegen Rassismus,Taste of Barnim
ORGANIZER;CN="Afrikanischer Kulturverein Palanca e.V.":MAILTO:palancaev@gmx.de
END:VEVENT
BEGIN:VEVENT
DTSTART;VALUE=DATE:20260312
DTEND;VALUE=DATE:20260315
DTSTAMP:20260420T003750
CREATED:20260213T134339Z
LAST-MODIFIED:20260213T140523Z
UID:3837-1773273600-1773532799@palanca-eberswalde.de
SUMMARY:Festival der Taten 2026
DESCRIPTION:Die HNEE lädt vom 12. bis 14. März 2026 zum „Festival der Taten“ ein. Euch erwartet ein buntes Programm unter dem Motto „Zusammen-Tun: Wo Begegnung Wirkung entfaltet“. In rund 40 Workshops\, Vorträgen\, Filmvorführungen\, Science Slam sowie Exkursionen erkunden wir\, welchen Wert persönliche Begegnungen und gemeinsames Engagement für eine sozialökologische Transformation haben. Denn echte Begegnungen verbinden\, ermutigen\, eröffnen Perspektiven und machen deutlich: Wir können gemeinsam etwas bewegen. \n#ZusammenTun #HHNEE #Nachhaltigkeit #LebenInEberswalde #Eberswalde
URL:https://palanca-eberswalde.de/veranstaltung/festival-der-taten-2026/
LOCATION:Privatbäckerei Wiese\, Friedrich-Ebert-Straße 13\, Eberswalde\, 16225
CATEGORIES:Fest
END:VEVENT
BEGIN:VEVENT
DTSTART;TZID=Europe/Berlin:20260310T180000
DTEND;TZID=Europe/Berlin:20260310T210000
DTSTAMP:20260420T003750
CREATED:20260119T164233Z
LAST-MODIFIED:20260305T134740Z
UID:3695-1773165600-1773176400@palanca-eberswalde.de
SUMMARY:Taste of Barnim - wir kochen jordanisch
DESCRIPTION:Am 10.03.26  kochen wir ab 18 Uhr im Cafe Gustav (Am Markt 2d in 16225 Eberswalde) jordanisch.\nDas Kochen ist kostenlos und wir freuen uns über jede Person die mit macht! \nGerne anmelden unter: 0176 20824471 Mo – Fr: 10 – 17 Uhr (WhatsApp und Signal) oder per Mail an: palancaev@gmx.de
URL:https://palanca-eberswalde.de/veranstaltung/taste-of-barnim-wir-kochen-jordanisch/
LOCATION:Kaffeehaus Gustav\, Am Markrt 2D\, Eberswalde\, 16225
CATEGORIES:Taste of Barnim
END:VEVENT
BEGIN:VEVENT
DTSTART;TZID=Europe/Berlin:20260301T130000
DTEND;TZID=Europe/Berlin:20260301T180000
DTSTAMP:20260420T003750
CREATED:20260213T132427Z
LAST-MODIFIED:20260331T194551Z
UID:3835-1772370000-1772388000@palanca-eberswalde.de
SUMMARY:Digitaler Unabhängigkeitstag | Linux-Einführung und Selfhosting
DESCRIPTION:Unser digitales Leben befindet sich in der Hand weniger Überreicher. Mit der Monopolstellung ihrer Unternehmen bestimmen Menschen wie Elon Musk\, Jeff Bezos oder Mark Zuckerberg weltweit\, wie wir uns online informieren\, wie wir diskutieren\, kommunizieren oder handeln. Einen solchen unkontrollierten Einfluss sollte kein Mensch und kein Unternehmen besitzen\, weil wir dann nicht mehr in Freiheit leben können.\nDie gute Nachricht: Diese Macht geben wir ihnen derzeit\, und wir können sie ihnen auch wieder nehmen: Am 01.03.26 veranstalten wir deshalb den di.day #DigitalIndependenceDay: Wir holen uns unser freies digitales Leben zurück\, zerstören die Demokratie nicht weiter und wechseln zu demokratiefreundlichen digitalen Alternativen. Und wir sichern uns nach und nach unsere digitale Unabhängigkeit. \nImpulsvorträge: \n\nEinführung Linux\nSelfhosting
URL:https://palanca-eberswalde.de/veranstaltung/digitaler-unabhaengigkeitstag-linux-einfuehrung-und-selfhosting/
LOCATION:Thinkfarm Eberswalde\, Eisenbahnstr. 92/93\, Eberswalde\, 16225
CATEGORIES:di.day
END:VEVENT
BEGIN:VEVENT
DTSTART;TZID=Europe/Berlin:20260224T170000
DTEND;TZID=Europe/Berlin:20260224T200000
DTSTAMP:20260420T003750
CREATED:20260119T163916Z
LAST-MODIFIED:20260216T114202Z
UID:3692-1771952400-1771963200@palanca-eberswalde.de
SUMMARY:Taste of Barnim - Iftar
DESCRIPTION:Am 24.02.26  machen wir ab 17 Uhr im Magnet Thinkfarm (Eisenbahnstr. 92 in 16225 Eberswalde) iftar.\nDas Kochen ist kostenlos und wir freuen uns über jede Person die mit macht! \nGerne anmelden unter: 0176 20824471 Mo – Fr: 10 – 17 Uhr (WhatsApp und Signal) oder per Mail an: palancaev@gmx.de
URL:https://palanca-eberswalde.de/veranstaltung/taste-of-barnim-wir-kochen-syrisch-4/
LOCATION:Thinkfarm Eberswalde\, Eisenbahnstr. 92/93\, Eberswalde\, 16225
CATEGORIES:Taste of Barnim
END:VEVENT
BEGIN:VEVENT
DTSTART;TZID=Europe/Berlin:20260210T080000
DTEND;TZID=Europe/Berlin:20260210T170000
DTSTAMP:20260420T003750
CREATED:20260119T163702Z
LAST-MODIFIED:20260119T163702Z
UID:3689-1770710400-1770742800@palanca-eberswalde.de
SUMMARY:Taste of Barnim - wir kochen sudanesisch
DESCRIPTION:Am 10.02.26  kochen wir ab 18 Uhr im Cafe Gustav (Am Markt 2d in 16225 Eberswalde) sudanesisch.\nDas Kochen ist kostenlos und wir freuen uns über jede Person die mit macht! \nGerne anmelden unter: 0176 20824471 Mo – Fr: 10 – 17 Uhr (WhatsApp und Signal) oder per Mail an: palancaev@gmx.de
URL:https://palanca-eberswalde.de/veranstaltung/taste-of-barnim-wir-kochen-sudanesisch-4/
LOCATION:Kaffeehaus Gustav\, Am Markrt 2D\, Eberswalde\, 16225
CATEGORIES:Taste of Barnim
END:VEVENT
BEGIN:VEVENT
DTSTART;TZID=Europe/Berlin:20260201T130000
DTEND;TZID=Europe/Berlin:20260201T180000
DTSTAMP:20260420T003750
CREATED:20260116T184030Z
LAST-MODIFIED:20260331T194551Z
UID:3670-1769950800-1769968800@palanca-eberswalde.de
SUMMARY:Digitaler Unabhängigkeitstag
DESCRIPTION:  \nUnser digitales Leben befindet sich in der Hand weniger Überreicher. Mit der Monopolstellung ihrer Unternehmen bestimmen Menschen wie Elon Musk\, Jeff Bezos oder Mark Zuckerberg weltweit\, wie wir uns online informieren\, wie wir diskutieren\, kommunizieren oder handeln. Einen solchen unkontrollierten Einfluss sollte kein Mensch und kein Unternehmen besitzen\, weil wir dann nicht mehr in Freiheit leben können.\nDie gute Nachricht: Diese Macht geben wir ihnen derzeit\, und wir können sie ihnen auch wieder nehmen: Am 01.02.26 veranstalten wir deshalb den di.day #DigitalIndependenceDay: Wir holen uns unser freies digitales Leben zurück\, zerstören die Demokratie nicht weiter und wechseln zu demokratiefreundlichen digitalen Alternativen. Und wir sichern uns nach und nach unsere digitale Unabhängigkeit!
URL:https://palanca-eberswalde.de/veranstaltung/digitaler-unabhaengigkeitstag/
LOCATION:Thinkfarm Eberswalde\, Eisenbahnstr. 92/93\, Eberswalde\, 16225
CATEGORIES:di.day
END:VEVENT
BEGIN:VEVENT
DTSTART;TZID=Europe/Berlin:20260127T180000
DTEND;TZID=Europe/Berlin:20260127T210000
DTSTAMP:20260420T003750
CREATED:20260119T162937Z
LAST-MODIFIED:20260119T164031Z
UID:3678-1769536800-1769547600@palanca-eberswalde.de
SUMMARY:Taste of Barnim - wir kochen afghanisch
DESCRIPTION:Am 27.01.25  kochen wir ab 18 Uhr im BBZ Amadeu Antonio (Puschkinstr. 13 16225 Eberswalde) afghanisch.\nDas Kochen ist kostenlos und wir freuen uns über jede Person die mitmacht! \nGerne anmelden unter: 0176 20824471 Mo – Fr: 10 – 17 Uhr (WhatsApp und Signal) oder per Mail an: palancaev@gmx.de
URL:https://palanca-eberswalde.de/veranstaltung/taste-of-barnim-wir-kochen-afghanisch-2/
LOCATION:BBZ Amadeu Antonio\, Puschkinstr. 13\, Eberswalde\, Brandenburg\, 16225\, Germany
CATEGORIES:Taste of Barnim
ORGANIZER;CN="Afrikanischer Kulturverein Palanca e.V.":MAILTO:palancaev@gmx.de
END:VEVENT
BEGIN:VEVENT
DTSTART;TZID=Europe/Berlin:20260113T180000
DTEND;TZID=Europe/Berlin:20260113T200000
DTSTAMP:20260420T003750
CREATED:20251117T140320Z
LAST-MODIFIED:20260119T164031Z
UID:3651-1768327200-1768334400@palanca-eberswalde.de
SUMMARY:Taste of Barnim - wir kochen syrisch
DESCRIPTION:Am 13.01.26  kochen wir ab 18 Uhr im Cafe Gustav (Am Markt 2d in 16225 Eberswalde) syrisch. Das Kochen ist kostenlos und wir freuen uns über jede Person die mit macht! \nGerne anmelden unter: 0176 20824471 Mo – Fr: 10 – 17 Uhr (WhatsApp und Signal) oder per Mail an: palancaev@gmx.de
URL:https://palanca-eberswalde.de/veranstaltung/taste-of-barnim-wir-kochen-syrisch-3/
CATEGORIES:Taste of Barnim
END:VEVENT
BEGIN:VEVENT
DTSTART;TZID=Europe/Berlin:20251216T180000
DTEND;TZID=Europe/Berlin:20251216T200000
DTSTAMP:20260420T003750
CREATED:20251117T140124Z
LAST-MODIFIED:20260119T164031Z
UID:3649-1765908000-1765915200@palanca-eberswalde.de
SUMMARY:Taste of Barnim - wir kochen süßes international
DESCRIPTION:Am 16.12.25  backen wir ab 18 Uhr  süßes international. Das Backen ist kostenlos und wir freuen uns über jede Person die mit macht! \nGerne anmelden unter: 0176 20824471 Mo – Fr: 10 – 17 Uhr (WhatsApp und Signal) oder per Mail an: palancaev@gmx.de
URL:https://palanca-eberswalde.de/veranstaltung/taste-of-barnim-wir-kochen-suesses-international/
CATEGORIES:Taste of Barnim
END:VEVENT
BEGIN:VEVENT
DTSTART;TZID=Europe/Berlin:20251214T140000
DTEND;TZID=Europe/Berlin:20251214T180000
DTSTAMP:20260420T003750
CREATED:20251105T101707Z
LAST-MODIFIED:20251105T101707Z
UID:3639-1765720800-1765735200@palanca-eberswalde.de
SUMMARY:Weihnachtsmarkt Potsdamer Platz
DESCRIPTION:
URL:https://palanca-eberswalde.de/veranstaltung/weihnachtsmarkt-potsdamer-platz/
LOCATION:Potsdamer Platz\, Potsdamer Allee 44\, Eberswalde\, 16227
END:VEVENT
BEGIN:VEVENT
DTSTART;TZID=Europe/Berlin:20251212T170000
DTEND;TZID=Europe/Berlin:20251212T210000
DTSTAMP:20260420T003750
CREATED:20251201T162453Z
LAST-MODIFIED:20251201T162704Z
UID:3662-1765558800-1765573200@palanca-eberswalde.de
SUMMARY:Zur Lebenssituation afrikanischer Schutzsuchender in Brandenburg  – Vorstellung der Arbeitsergebnisse der AG des Landesintegrationsbeirates
DESCRIPTION:Die RAA Brandenburg NL Angermünde und Potsdam und die afrikanische Kulturinitiative Palanca e.V.  freuen sich\, Mitglieder der Arbeitsgruppe „Afrikanische Schutzsuchende mit ungesichertem Aufenthalt“ und die Integrationsbeauftragte des Landes Brandenburg\, Frau Diana Gonzalez Olivo\, in Eberswalde begrüßen zu können. \nNach der Vorstellung der Arbeitsergebnisse und einer Podiumsdiskussion ist Gelegenheit\, gemeinsam zu diskutieren. \nIm Anschluss findet bei einem Imbiss gemeinsam mit Studierenden der HNEE ein Kontaktforum statt\, das über die Veranstaltung hinaus Newcomer und Alteingesessene vernetzt. \nWir bitten um Anmeldung mit Namen und E-Mail-Adresse unter palancaev@gmx.de oder per Telefon/dem Messenger Signal (Nummer 017620824471) \n  \nZur Lebenssituation afrikanischer Schutzsuchender
URL:https://palanca-eberswalde.de/veranstaltung/zur-lebenssituation-afrikanischer-schutzsuchender-in-brandenburg-vorstellung-der-arbeitsergebnisse-der-ag-des-landesintegrationsbeirates/
LOCATION:Eberswalde; wird nach Anmeldung bekannt gegeben\, Eberswalde\, Brandenburg\, 16225\, Germany
END:VEVENT
BEGIN:VEVENT
DTSTART;TZID=Europe/Berlin:20251209T180000
DTEND;TZID=Europe/Berlin:20251209T200000
DTSTAMP:20260420T003750
CREATED:20251117T135916Z
LAST-MODIFIED:20260119T164056Z
UID:3646-1765303200-1765310400@palanca-eberswalde.de
SUMMARY:Taste of Barnim - wir kochen drusisch
DESCRIPTION:Am 09.12.25  kochen wir ab 18 Uhr im Cafe Gustav (Am Markt 2d in 16225 Eberswalde) drusisch. Das Kochen ist kostenlos und wir freuen uns über jede Person die mit macht! \nGerne anmelden unter: 0176 20824471 Mo – Fr: 10 – 17 Uhr (WhatsApp und Signal) oder per Mail an: palancaev@gmx.de
URL:https://palanca-eberswalde.de/veranstaltung/taste-of-barnim-wir-kochen-drusisch/
LOCATION:Kaffeehaus Gustav\, Am Markrt 2D\, Eberswalde\, 16225
CATEGORIES:Taste of Barnim
END:VEVENT
BEGIN:VEVENT
DTSTART;TZID=Europe/Berlin:20251206T170000
DTEND;TZID=Europe/Berlin:20251206T200000
DTSTAMP:20260420T003750
CREATED:20251105T101336Z
LAST-MODIFIED:20251105T101336Z
UID:3635-1765040400-1765051200@palanca-eberswalde.de
SUMMARY:Gedenken an Amadeu Antonio - 35. Todestag
DESCRIPTION:Wir gedenken Amadeu Antonio zum 35. Todestag.Beginn: 17:00 Uhr an der Gedenktafel (Eberswalder Str. 26a in 16227 Eberswalde)Im Anschluss\, ab 18:00 Uhr\, setzen wir das Gedenken im Familiengarten fort.Dort finden Impulse in Form einer Podiumsdiskussion statt.
URL:https://palanca-eberswalde.de/veranstaltung/gedenken-an-amadeu-antonio-35-todestag/
END:VEVENT
BEGIN:VEVENT
DTSTART;TZID=Europe/Berlin:20251125T180000
DTEND;TZID=Europe/Berlin:20251125T200000
DTSTAMP:20260420T003750
CREATED:20251117T135731Z
LAST-MODIFIED:20260119T164056Z
UID:3643-1764093600-1764100800@palanca-eberswalde.de
SUMMARY:Taste of Barnim - wir kochen sudanesisch
DESCRIPTION:Am 25.11.25  kochen wir ab 18 Uhr im Cafe Gustav (Am Markt 2d in 16225 Eberswalde) sudanesisch. Das Kochen ist kostenlos und wir freuen uns über jede Person die mit macht! \nGerne anmelden unter: 0176 20824471 Mo – Fr: 10 – 17 Uhr (WhatsApp und Signal) oder per Mail an: palancaev@gmx.de
URL:https://palanca-eberswalde.de/veranstaltung/taste-of-barnim-wir-kochen-sudanesisch-3/
LOCATION:Kaffeehaus Gustav\, Am Markrt 2D\, Eberswalde\, 16225
CATEGORIES:Taste of Barnim
END:VEVENT
BEGIN:VEVENT
DTSTART;TZID=Europe/Berlin:20251118T180000
DTEND;TZID=Europe/Berlin:20251118T200000
DTSTAMP:20260420T003750
CREATED:20251105T101558Z
LAST-MODIFIED:20251105T101558Z
UID:3637-1763488800-1763496000@palanca-eberswalde.de
SUMMARY:Amadeu Antonio Preisverleihung
DESCRIPTION:Der Amadeu Antonio Preis wird von der Amadeu Antonio Stiftung und der Stadt Eberswalde ausgerichtet und verliehen. Anlässlich des 35. Todestags von Amadeu Antonio werden am 18. November 2025 in Eberswalde Projekte gewürdigt\, die sich mit Rassismus auseinandersetzen und für Menschenrechte und Diversität eintreten. Eine Jury entscheidet über den mit 3.000 Euro dotierten Hauptpreis und zwei weitere mit je 1.000 Euro dotierte Preise. \n2025 wurde der Amadeu Antonio Preis inhaltlich neu konzipiert: Der Preis\, der bisher Künstler*innen und ihre Arbeiten würdigte\, die sich mit Rassismus auseinandersetzen\, erweitert nun den Blick auf dieses Thema: Er zeichnet Projekte aus\, die sich künstlerisch oder soziokulturell mit Rassismus auseinandersetzen – insbesondere an der Schnittstelle von politischer und kultureller Bildung. Neu in diesem Jahr ist zudem\, dass der Wirkungsmittelpunkt der Projekte gezielt auf Ostdeutschland außerhalb der Großstädte ausgerichtet ist. \nOb Theaterprojekte\, in denen Jugendliche ihre Erfahrungen mit Rassismus auf die Bühne bringen\, oder eine von Migrant*innen selbstorganisierte Party-Reihe\, die gezielt gegen den Ausschluss von durch Rassismus betroffenen Menschen aus öffentlichen Räumen kämpft – der Preis macht sichtbar\, wie vielfältig und kreativ antirassistisches Engagement sein kann. \nTeilnahme nur mit Anmeldung.
URL:https://palanca-eberswalde.de/veranstaltung/amadeu-antonio-preisverleihung/
LOCATION:Bürgerbildungszentrum Amadeu Antonio\, Großer Saal\, Puschkinstraße 13\, Eberswalde\, 16225
END:VEVENT
BEGIN:VEVENT
DTSTART;TZID=Europe/Berlin:20251111T180000
DTEND;TZID=Europe/Berlin:20251111T200000
DTSTAMP:20260420T003750
CREATED:20250915T120157Z
LAST-MODIFIED:20260119T164056Z
UID:3595-1762884000-1762891200@palanca-eberswalde.de
SUMMARY:Taste of Barnim - Wir kochen arabisch
DESCRIPTION:Am 11.11.25  kochen wir ab 18 Uhr im Cafe Gustav (Am Markt 2d in 16225 Eberswalde) syrisch. Das Kochen ist kostenlos und wir freuen uns über jede Person die mit macht! \nGerne anmelden unter: 0176 20824471 Mo – Fr: 10 – 17 Uhr (WhatsApp und Signal) oder per Mail an: palancaev@gmx.de
URL:https://palanca-eberswalde.de/veranstaltung/taste-of-barnim-wir-kochen-arabisch-2/
CATEGORIES:Taste of Barnim
END:VEVENT
BEGIN:VEVENT
DTSTART;TZID=Europe/Berlin:20251028T180000
DTEND;TZID=Europe/Berlin:20251028T200000
DTSTAMP:20260420T003750
CREATED:20250915T120030Z
LAST-MODIFIED:20260119T164056Z
UID:3593-1761674400-1761681600@palanca-eberswalde.de
SUMMARY:Taste of Barnim - Wir kochen syrisch
DESCRIPTION:Am 28.10.25  kochen wir ab 18 Uhr im Cafe Gustav (Am Markt 2d in 16225 Eberswalde) syrisch. Das Kochen ist kostenlos und wir freuen uns über jede Person die mit macht! \nGerne anmelden unter: 0176 20824471 Mo – Fr: 10 – 17 Uhr (WhatsApp und Signal) oder per Mail an: palancaev@gmx.de
URL:https://palanca-eberswalde.de/veranstaltung/taste-of-barnim-wir-kochen-syrisch-2/
CATEGORIES:Taste of Barnim
END:VEVENT
BEGIN:VEVENT
DTSTART;TZID=Europe/Berlin:20251014T180000
DTEND;TZID=Europe/Berlin:20251014T200000
DTSTAMP:20260420T003750
CREATED:20250915T115904Z
LAST-MODIFIED:20260119T164056Z
UID:3591-1760464800-1760472000@palanca-eberswalde.de
SUMMARY:Taste of Barnim - Wir kochen sudanesisch
DESCRIPTION:Am 14.10.25  kochen wir ab 18 Uhr im Cafe Gustav (Am Markt 2d in 16225 Eberswalde) sudanesisch. Das Kochen ist kostenlos und wir freuen uns über jede Person die mit macht! \nGerne anmelden unter: 0176 20824471 Mo – Fr: 10 – 17 Uhr (WhatsApp und Signal) oder per Mail an: palancaev@gmx.de
URL:https://palanca-eberswalde.de/veranstaltung/taste-of-barnim-wir-kochen-sudanesisch-2/
CATEGORIES:Taste of Barnim
END:VEVENT
BEGIN:VEVENT
DTSTART;TZID=Europe/Berlin:20251002T160000
DTEND;TZID=Europe/Berlin:20251002T220000
DTSTAMP:20260420T003750
CREATED:20250923T100512Z
LAST-MODIFIED:20250923T100512Z
UID:3612-1759420800-1759442400@palanca-eberswalde.de
SUMMARY:Demokratiefest - Markt der Initiativen
DESCRIPTION:
URL:https://palanca-eberswalde.de/veranstaltung/demokratiefest-markt-der-initiativen/
LOCATION:Rofinpark Eberswalde
END:VEVENT
BEGIN:VEVENT
DTSTART;TZID=Europe/Berlin:20250930T180000
DTEND;TZID=Europe/Berlin:20250930T200000
DTSTAMP:20260420T003750
CREATED:20250915T115728Z
LAST-MODIFIED:20260119T164056Z
UID:3589-1759255200-1759262400@palanca-eberswalde.de
SUMMARY:Taste of Barnim  Wir kochen afghanisch -
DESCRIPTION:Am 30.09.25  kochen wir ab 18 Uhr im Cafe Gustav (Am Markt 2d in 16225 Eberswalde) afghanisch. Das Kochen ist kostenlos und wir freuen uns über jede Person die mit macht! \nGerne anmelden unter: 0176 20824471 Mo – Fr: 10 – 17 Uhr (WhatsApp und Signal) oder per Mail an: palancaev@gmx.de
URL:https://palanca-eberswalde.de/veranstaltung/taste-of-barnim-wir-kochen-afghanisch/
CATEGORIES:Taste of Barnim
END:VEVENT
BEGIN:VEVENT
DTSTART;VALUE=DATE:20250920
DTEND;VALUE=DATE:20250921
DTSTAMP:20260420T003750
CREATED:20250716T140208Z
LAST-MODIFIED:20250716T140208Z
UID:3536-1758326400-1758412799@palanca-eberswalde.de
SUMMARY:Kiezfest Eberswalde
DESCRIPTION:Bei dem diesjährigen Kiezfest sind wir dabei und freuen uns über euren Besuch.
URL:https://palanca-eberswalde.de/veranstaltung/kiezfest-eberswalde/
LOCATION:Ruhlaer Straße\, Ruhlaer Straße\, Eberswalde\, 16225
END:VEVENT
BEGIN:VEVENT
DTSTART;TZID=Europe/Berlin:20250916T180000
DTEND;TZID=Europe/Berlin:20250916T190000
DTSTAMP:20260420T003750
CREATED:20250716T135533Z
LAST-MODIFIED:20260119T164056Z
UID:3532-1758045600-1758049200@palanca-eberswalde.de
SUMMARY:Taste of Barnim - Wir kochen kurdisch
DESCRIPTION:Am 16.09.25  kochen wir ab 18 Uhr im Cafe Gustav (Am Markt 2d in 16225 Eberswalde) kurdisch. Das Kochen ist kostenlos und wir freuen uns über jede Person die mit macht! \nGerne anmelden unter: 0176 20824471 Mo – Fr: 10 – 17 Uhr (WhatsApp und Sign
URL:https://palanca-eberswalde.de/veranstaltung/taste-of-barnim-wir-kochen-kurdisch/
CATEGORIES:Taste of Barnim
END:VEVENT
BEGIN:VEVENT
DTSTART;TZID=Europe/Berlin:20250913T130000
DTEND;TZID=Europe/Berlin:20250913T180000
DTSTAMP:20260420T003750
CREATED:20250716T135758Z
LAST-MODIFIED:20250716T135758Z
UID:3534-1757768400-1757786400@palanca-eberswalde.de
SUMMARY:Fete de la Viertel
DESCRIPTION:Wir sind auch dieses ja bei der Fete de la Viertel und freuen uns wenn ihr kommt!
URL:https://palanca-eberswalde.de/veranstaltung/fete-de-la-viertel-2/
END:VEVENT
BEGIN:VEVENT
DTSTART;TZID=Europe/Berlin:20250905T160000
DTEND;TZID=Europe/Berlin:20250905T190000
DTSTAMP:20260420T003750
CREATED:20250901T121841Z
LAST-MODIFIED:20250901T121841Z
UID:3585-1757088000-1757098800@palanca-eberswalde.de
SUMMARY:Human Library
DESCRIPTION:Human Library: Menschen verschiedenster Herkunft erzählen ihre Migrationsgeschichten \nKommen in der Zeit zwischen 16:00 – 19:00 Uhr möglich. \nAfrikanischer Kulturverein Palanca e.V.\nCoppistraße 3\n15227 Eberswalde \nAfrikanischer Kulturverein Palanca e.V.\nin Kooperation mit COMCAL e.V.
URL:https://palanca-eberswalde.de/veranstaltung/human-library/
END:VEVENT
BEGIN:VEVENT
DTSTART;TZID=Europe/Berlin:20250902T180000
DTEND;TZID=Europe/Berlin:20250902T190000
DTSTAMP:20260420T003750
CREATED:20250716T135420Z
LAST-MODIFIED:20250716T135420Z
UID:3530-1756836000-1756839600@palanca-eberswalde.de
SUMMARY:Taste of Barnim - Wir kochen palästinensisch
DESCRIPTION:Am 02.09.25  kochen wir ab 18 Uhr im Cafe Gustav (Am Markt 2d in 16225 Eberswalde) palästinesisch. Das Kochen ist kostenlos und wir freuen uns über jede Person die mit macht! \nGerne anmelden unter: 0176 20824471 Mo – Fr: 10 – 17 Uhr (WhatsApp und Signal)
URL:https://palanca-eberswalde.de/veranstaltung/taste-of-barnim-wir-kochen-palaestinensisch/
END:VEVENT
BEGIN:VEVENT
DTSTART;TZID=Europe/Berlin:20250819T180000
DTEND;TZID=Europe/Berlin:20250819T190000
DTSTAMP:20260420T003750
CREATED:20250716T135220Z
LAST-MODIFIED:20250716T135220Z
UID:3528-1755626400-1755630000@palanca-eberswalde.de
SUMMARY:Taste of Barnim - Wir kochen kamerunisch
DESCRIPTION:Am 19.08.25  kochen wir ab 18 Uhr im Cafe Gustav (Am Markt 2d in 16225 Eberswalde) kamerunisch. Das Kochen ist kostenlos und wir freuen uns über jede Person die mit macht! \nGerne anmelden unter: 0176 20824471 Mo – Fr: 10 – 17 Uhr (WhatsApp und Signal)
URL:https://palanca-eberswalde.de/veranstaltung/taste-of-barnim-wir-kochen-kamerunisch/
END:VEVENT
BEGIN:VEVENT
DTSTART;TZID=Europe/Berlin:20250805T180000
DTEND;TZID=Europe/Berlin:20250805T190000
DTSTAMP:20260420T003750
CREATED:20250716T134414Z
LAST-MODIFIED:20250716T134414Z
UID:3525-1754416800-1754420400@palanca-eberswalde.de
SUMMARY:Taste of Barnim - Wir kochen sudanesisch
DESCRIPTION:Am 05.08.25  kochen wir ab 18 Uhr im Cafe Gustav (Am Markt 2d in 16225 Eberswalde) sudanesisch. Das Kochen ist kostenlos und wir freuen uns über jede Person die mit macht! \nGerne anmelden unter: 0176 20824471 Mo – Fr: 10 – 17 Uhr (WhatsApp und Signal)
URL:https://palanca-eberswalde.de/veranstaltung/taste-of-barnim-wir-kochen-sudanesisch/
END:VEVENT
END:VCALENDAR