BEGIN:VCALENDAR
VERSION:2.0
PRODID:-//Palanca e.V. - ECPv6.15.20//NONSGML v1.0//EN
CALSCALE:GREGORIAN
METHOD:PUBLISH
X-WR-CALNAME:Palanca e.V.
X-ORIGINAL-URL:https://palanca-eberswalde.de
X-WR-CALDESC:Veranstaltungen für Palanca e.V.
REFRESH-INTERVAL;VALUE=DURATION:PT1H
X-Robots-Tag:noindex
X-PUBLISHED-TTL:PT1H
BEGIN:VTIMEZONE
TZID:Europe/Berlin
BEGIN:DAYLIGHT
TZOFFSETFROM:+0100
TZOFFSETTO:+0200
TZNAME:CEST
DTSTART:20250330T010000
END:DAYLIGHT
BEGIN:STANDARD
TZOFFSETFROM:+0200
TZOFFSETTO:+0100
TZNAME:CET
DTSTART:20251026T010000
END:STANDARD
BEGIN:DAYLIGHT
TZOFFSETFROM:+0100
TZOFFSETTO:+0200
TZNAME:CEST
DTSTART:20260329T010000
END:DAYLIGHT
BEGIN:STANDARD
TZOFFSETFROM:+0200
TZOFFSETTO:+0100
TZNAME:CET
DTSTART:20261025T010000
END:STANDARD
BEGIN:DAYLIGHT
TZOFFSETFROM:+0100
TZOFFSETTO:+0200
TZNAME:CEST
DTSTART:20270328T010000
END:DAYLIGHT
BEGIN:STANDARD
TZOFFSETFROM:+0200
TZOFFSETTO:+0100
TZNAME:CET
DTSTART:20271031T010000
END:STANDARD
END:VTIMEZONE
BEGIN:VEVENT
DTSTART;TZID=Europe/Berlin:20260509T120000
DTEND;TZID=Europe/Berlin:20260509T160000
DTSTAMP:20260420T052757
CREATED:20260213T150053Z
LAST-MODIFIED:20260402T104959Z
UID:3723-1778328000-1778342400@palanca-eberswalde.de
SUMMARY:18. Freiwilligentag in Eberswalde
DESCRIPTION:Helfen Sie beim Kochen von leckeren Gerichten aus aller Welt und bereiten Sie so das Buffet für die Dankeschönparty des Freiwilligentages am Abend vor. \nUnser Kochprojekt ist eine tolle Gelegenheit\, sowohl kulinarisch als auch kulturell über den Tellerrand zu schauen. Wir möchten nicht nur landestypische Gerichte zubereiten\, sondern auch über die verschiedenen Traditionen und Essgewohnheiten sprechen. \nDas Projekt findet zusammen mit dem Schmatzkammer e.V. statt. \nEnglish: \nHelp cook delicious dishes from around the world and prepare the buffet for the Volunteer Day thank-you party in the evening. \nOur cooking project is a great opportunity to broaden your horizons\, both culinarily and culturally. We not only want to prepare typical dishes from different countries\, but also talk about the various traditions and eating habits. \nDie Anmeldung erfolgt zentral über die Freiwilligenagentur Eberswalde. Dort gibt es auch weitere Informationen zu den einzelnen Mitmach-Angeboten. \nFür alle Beteiligten gibt es von 18 bis 21 Uhr eine gemeinsame Dankeschön-Party. \nMachen Sie mit!
URL:https://palanca-eberswalde.de/veranstaltung/18-freiwilligentag-in-eberswalde/
LOCATION:Schmatzkammer e.V.\, Coppistr 3\, Eberswalde\, 16227
CATEGORIES:Fest,Taste of Barnim
END:VEVENT
END:VCALENDAR