BEGIN:VCALENDAR
VERSION:2.0
PRODID:-//Palanca e.V. - ECPv6.15.20//NONSGML v1.0//EN
CALSCALE:GREGORIAN
METHOD:PUBLISH
X-ORIGINAL-URL:https://palanca-eberswalde.de
X-WR-CALDESC:Veranstaltungen für Palanca e.V.
REFRESH-INTERVAL;VALUE=DURATION:PT1H
X-Robots-Tag:noindex
X-PUBLISHED-TTL:PT1H
BEGIN:VTIMEZONE
TZID:Europe/Berlin
BEGIN:DAYLIGHT
TZOFFSETFROM:+0100
TZOFFSETTO:+0200
TZNAME:CEST
DTSTART:20250330T010000
END:DAYLIGHT
BEGIN:STANDARD
TZOFFSETFROM:+0200
TZOFFSETTO:+0100
TZNAME:CET
DTSTART:20251026T010000
END:STANDARD
BEGIN:DAYLIGHT
TZOFFSETFROM:+0100
TZOFFSETTO:+0200
TZNAME:CEST
DTSTART:20260329T010000
END:DAYLIGHT
BEGIN:STANDARD
TZOFFSETFROM:+0200
TZOFFSETTO:+0100
TZNAME:CET
DTSTART:20261025T010000
END:STANDARD
BEGIN:DAYLIGHT
TZOFFSETFROM:+0100
TZOFFSETTO:+0200
TZNAME:CEST
DTSTART:20270328T010000
END:DAYLIGHT
BEGIN:STANDARD
TZOFFSETFROM:+0200
TZOFFSETTO:+0100
TZNAME:CET
DTSTART:20271031T010000
END:STANDARD
END:VTIMEZONE
BEGIN:VEVENT
DTSTART;TZID=Europe/Berlin:20260505T180000
DTEND;TZID=Europe/Berlin:20260505T210000
DTSTAMP:20260420T052016
CREATED:20260305T132446Z
LAST-MODIFIED:20260305T132518Z
UID:3874-1778004000-1778014800@palanca-eberswalde.de
SUMMARY:Wir kochen kubanisch
DESCRIPTION:Gemeinsam kochen wir leckeres aus aller Welt und lernen einander kennen. Nette Gespräch und Austausch garantiert.\nDas Kochen ist kostenlos und wir freuen uns über jede Person die mit macht! \nSpendenempfehlung: 2€ | Soli: 5€ \nDamit wir genügend Zutaten einkaufen meldet euch bitte an.\nWir freuen uns auf euch 🙂
URL:https://palanca-eberswalde.de/veranstaltung/wir-kochen-kubanisch/
LOCATION:Kaffeehaus Gustav\, Am Markrt 2D\, Eberswalde\, 16225
CATEGORIES:Taste of Barnim
ORGANIZER;CN="Afrikanischer Kulturverein Palanca e.V.":MAILTO:palancaev@gmx.de
END:VEVENT
END:VCALENDAR