BEGIN:VCALENDAR
VERSION:2.0
PRODID:-//Palanca e.V. - ECPv6.15.20//NONSGML v1.0//EN
CALSCALE:GREGORIAN
METHOD:PUBLISH
X-ORIGINAL-URL:https://palanca-eberswalde.de
X-WR-CALDESC:Veranstaltungen für Palanca e.V.
REFRESH-INTERVAL;VALUE=DURATION:PT1H
X-Robots-Tag:noindex
X-PUBLISHED-TTL:PT1H
BEGIN:VTIMEZONE
TZID:Europe/Berlin
BEGIN:DAYLIGHT
TZOFFSETFROM:+0100
TZOFFSETTO:+0200
TZNAME:CEST
DTSTART:20250330T010000
END:DAYLIGHT
BEGIN:STANDARD
TZOFFSETFROM:+0200
TZOFFSETTO:+0100
TZNAME:CET
DTSTART:20251026T010000
END:STANDARD
BEGIN:DAYLIGHT
TZOFFSETFROM:+0100
TZOFFSETTO:+0200
TZNAME:CEST
DTSTART:20260329T010000
END:DAYLIGHT
BEGIN:STANDARD
TZOFFSETFROM:+0200
TZOFFSETTO:+0100
TZNAME:CET
DTSTART:20261025T010000
END:STANDARD
BEGIN:DAYLIGHT
TZOFFSETFROM:+0100
TZOFFSETTO:+0200
TZNAME:CEST
DTSTART:20270328T010000
END:DAYLIGHT
BEGIN:STANDARD
TZOFFSETFROM:+0200
TZOFFSETTO:+0100
TZNAME:CET
DTSTART:20271031T010000
END:STANDARD
END:VTIMEZONE
BEGIN:VEVENT
DTSTART;TZID=Europe/Berlin:20260501T140000
DTEND;TZID=Europe/Berlin:20260501T180000
DTSTAMP:20260420T040050
CREATED:20260331T194131Z
LAST-MODIFIED:20260331T194456Z
UID:4058-1777644000-1777658400@palanca-eberswalde.de
SUMMARY:Digitaler Unabhängigkeitstag | Markt der Initiativen
DESCRIPTION:Im Rahmen des Marktes der Initiativen: \nUnser digitales Leben befindet sich in der Hand weniger Überreicher. Mit der Monopolstellung ihrer Unternehmen bestimmen Menschen wie Elon Musk\, Jeff Bezos oder Mark Zuckerberg weltweit\, wie wir uns online informieren\, wie wir diskutieren\, kommunizieren oder handeln. Einen solchen unkontrollierten Einfluss sollte kein Mensch und kein Unternehmen besitzen\, weil wir dann nicht mehr in Freiheit leben können.\nDie gute Nachricht: Diese Macht geben wir ihnen derzeit\, und wir können sie ihnen auch wieder nehmen: Am 01.03.26 veranstalten wir deshalb den di.day #DigitalIndependenceDay: Wir holen uns unser freies digitales Leben zurück\, zerstören die Demokratie nicht weiter und wechseln zu demokratiefreundlichen digitalen Alternativen. Und wir sichern uns nach und nach unsere digitale Unabhängigkeit.
URL:https://palanca-eberswalde.de/veranstaltung/digitaler-unabhaengigkeitstag-markt-der-initiativen/
LOCATION:Am Markt Eberswalde\, Am Markt\, Eberswalde\, 16225
CATEGORIES:di.day
END:VEVENT
END:VCALENDAR