BEGIN:VCALENDAR
VERSION:2.0
PRODID:-//Palanca e.V. - ECPv6.15.20//NONSGML v1.0//EN
CALSCALE:GREGORIAN
METHOD:PUBLISH
X-ORIGINAL-URL:https://palanca-eberswalde.de
X-WR-CALDESC:Veranstaltungen für Palanca e.V.
REFRESH-INTERVAL;VALUE=DURATION:PT1H
X-Robots-Tag:noindex
X-PUBLISHED-TTL:PT1H
BEGIN:VTIMEZONE
TZID:Europe/Berlin
BEGIN:DAYLIGHT
TZOFFSETFROM:+0100
TZOFFSETTO:+0200
TZNAME:CEST
DTSTART:20250330T010000
END:DAYLIGHT
BEGIN:STANDARD
TZOFFSETFROM:+0200
TZOFFSETTO:+0100
TZNAME:CET
DTSTART:20251026T010000
END:STANDARD
BEGIN:DAYLIGHT
TZOFFSETFROM:+0100
TZOFFSETTO:+0200
TZNAME:CEST
DTSTART:20260329T010000
END:DAYLIGHT
BEGIN:STANDARD
TZOFFSETFROM:+0200
TZOFFSETTO:+0100
TZNAME:CET
DTSTART:20261025T010000
END:STANDARD
BEGIN:DAYLIGHT
TZOFFSETFROM:+0100
TZOFFSETTO:+0200
TZNAME:CEST
DTSTART:20270328T010000
END:DAYLIGHT
BEGIN:STANDARD
TZOFFSETFROM:+0200
TZOFFSETTO:+0100
TZNAME:CET
DTSTART:20271031T010000
END:STANDARD
END:VTIMEZONE
BEGIN:VEVENT
DTSTART;TZID=Europe/Berlin:20260425T120000
DTEND;TZID=Europe/Berlin:20260425T180000
DTSTAMP:20260420T040051
CREATED:20260206T160052Z
LAST-MODIFIED:20260206T160052Z
UID:3710-1777118400-1777140000@palanca-eberswalde.de
SUMMARY:Spielend für Toleranz
DESCRIPTION:Spielen verbindet \nEs ist Ausdruck von Gleichberechtigung und schafft einen Rahmen\, um aufeinander zuzugehen\, einander kennenzulernen und Regeln zu folgen\, die für alle gelten. Fairness\, Respekt\, Gleichheit – ohne diese Grundsätze hat niemand Spaß\, und alle verlieren. \nDeshalb kommen wir zusammen und laden alle\, die diese Werte mit uns teilen ein zum Spielen.
URL:https://palanca-eberswalde.de/veranstaltung/spielend-fuer-toleranz/
LOCATION:Thinkfarm Eberswalde\, Eisenbahnstr. 92/93\, Eberswalde\, 16225
ORGANIZER;CN="superelf cards":MAILTO:carolin.bielig@superelf-cards.de
END:VEVENT
END:VCALENDAR